BEGIN:VCALENDAR
VERSION:2.0
PRODID:-//Tukios.com/
BEGIN:VEVENT
UID:6fec3ac3-0b29-47bd-b349-326645410de1@www.sibillefuneralhomes.com
DTSTAMP:20260425T201420Z
DTSTART:20260428T160000Z
DTEND:20260428T170000Z
SUMMARY:Mass
DESCRIPTION:
URL:https://www.sibillefuneralhomes.com/obituaries/marlee-norse
LOCATION: 1432 W Landry St.  Opelousas LA 70570
GEO:30.5356722;-92.099429
END:VEVENT
END:VCALENDAR