BEGIN:VCALENDAR
VERSION:2.0
PRODID:-//Tukios.com/
BEGIN:VEVENT
UID:1de4c3e9-9068-48b5-b45d-66ce5eeb4cb0@www.sibillefuneralhomes.com
DTSTAMP:20260425T200822Z
DTSTART:20260428T130000Z
DTEND:20260428T153000Z
SUMMARY:Visitation
DESCRIPTION:
URL:https://www.sibillefuneralhomes.com/obituaries/marlee-norse
LOCATION: 2309 George Drive  Opelousas LA 70570
GEO:30.5088199;-92.074691
END:VEVENT
END:VCALENDAR