BEGIN:VCALENDAR
VERSION:2.0
PRODID:-//Tukios.com/
BEGIN:VEVENT
UID:f5056074-b650-4627-8fc5-e85d8e649b46@www.sibillefuneralhomes.com
DTSTAMP:20260425T200822Z
DTSTART:20260427T233000Z
DTEND:20260428T000000Z
SUMMARY:Rosary
DESCRIPTION:
URL:https://www.sibillefuneralhomes.com/obituaries/marlee-norse
LOCATION: 2309 George Drive  Opelousas LA 70570
GEO:30.5088199;-92.074691
END:VEVENT
END:VCALENDAR