BEGIN:VCALENDAR
VERSION:2.0
PRODID:-//Tukios.com/
BEGIN:VEVENT
UID:2a711738-0cce-473d-80b0-46c0e2384840@www.sibillefuneralhomes.com
DTSTAMP:20260425T201051Z
DTSTART:20260427T220000Z
DTEND:20260428T020000Z
SUMMARY:Visitation
DESCRIPTION:
URL:https://www.sibillefuneralhomes.com/obituaries/marlee-norse
LOCATION: 2309 George Drive  Opelousas LA 70570
GEO:30.5088199;-92.074691
END:VEVENT
END:VCALENDAR