BEGIN:VCALENDAR
VERSION:2.0
PRODID:-//Tukios.com/
BEGIN:VEVENT
UID:de8fc9eb-62d1-44ec-91bf-64db0e4401e7@www.sibillefuneralhomes.com
DTSTAMP:20260424T212454Z
DTSTART:20260426T180000Z
DTEND:20260426T181500Z
SUMMARY:Rosary
DESCRIPTION:
URL:https://www.sibillefuneralhomes.com/obituaries/brenda-woods
LOCATION: 2309 George Drive  Opelousas LA 70570
GEO:30.5088199;-92.074691
END:VEVENT
END:VCALENDAR