BEGIN:VCALENDAR
VERSION:2.0
PRODID:-//Tukios.com/
BEGIN:VEVENT
UID:815bd403-e6b8-4f5c-807f-8ed3e717d95c@www.sibillefuneralhomes.com
DTSTAMP:20260424T212153Z
DTSTART:20260426T160000Z
DTEND:20260426T180000Z
SUMMARY:Visitation
DESCRIPTION:
URL:https://www.sibillefuneralhomes.com/obituaries/brenda-woods
LOCATION: 2309 George Drive  Opelousas LA 70570
GEO:30.5088199;-92.074691
END:VEVENT
END:VCALENDAR