BEGIN:VCALENDAR
VERSION:2.0
PRODID:-//Tukios.com/
BEGIN:VEVENT
UID:ad728abe-bb76-42a1-a23a-522a16f52114@www.sibillefuneralhomes.com
DTSTAMP:20260424T212203Z
DTSTART:20260426T181500Z
DTEND:20260426T183000Z
SUMMARY:Funeral Service
DESCRIPTION:
URL:https://www.sibillefuneralhomes.com/obituaries/brenda-woods
LOCATION: 2309 George Drive  Opelousas LA 70570
GEO:30.5088199;-92.074691
END:VEVENT
END:VCALENDAR